View In:
ArcGIS JavaScript
ArcGIS Online map viewer
Google Earth
ArcMap
View Footprint In:
ArcGIS Online map viewer
Service Description: GeoHub/Env_review_IMG
Name: GeoHub/Env_review_IMG
Description: GeoHub/Env_review_IMG
Single Fused Map Cache: false
Extent:
XMin: 202073.808723
YMin: 4470598.397186
XMax: 736853.808723
YMax: 4822678.397186
Spatial Reference: 26915
(26915)
Initial Extent:
XMin: 202073.808723
YMin: 4470598.397186
XMax: 736853.808723
YMax: 4822678.397186
Spatial Reference: 26915
(26915)
Full Extent:
XMin: 202073.808723
YMin: 4470598.397186
XMax: 736853.808723
YMax: 4822678.397186
Spatial Reference: 26915
(26915)
Pixel Size X: 30.0
Pixel Size Y: 30.0
Band Count: 1
Pixel Type: S8
RasterFunction Infos: {"name":"None","description":"","help":""}
Mensuration Capabilities: Basic
Has Histograms: true
Has Colormap: false
Has Multi Dimensions : false
Rendering Rule:
Min Scale: 0
Max Scale: 0
Copyright Text:
Service Data Type: esriImageServiceDataTypeGeneric
Min Values: 0
Max Values: 16
Mean Values: 1.1012869477260843
Standard Deviation Values: 1.6384956475434689
Object ID Field:
Fields:
None
Default Mosaic Method: Center
Allowed Mosaic Methods:
SortField:
SortValue: null
Mosaic Operator: First
Default Compression Quality: 75
Default Resampling Method: Bilinear
Max Record Count: null
Max Image Height: 4100
Max Image Width: 15000
Max Download Image Count: null
Max Mosaic Image Count: null
Allow Raster Function: true
Allow Compute TiePoints: false
Supports Statistics: false
Supports Advanced Queries: false
Use StandardizedQueries: true
Raster Type Infos:
Name: Raster Dataset
Description: Supports all ArcGIS Raster Datasets
Help:
Has Raster Attribute Table: true
Edit Fields Info: null
Ownership Based AccessControl For Rasters: null
Child Resources:
Info
Raster Attribute Table
Histograms
Key Properties
Legend
MultiDimensionalInfo
rasterFunctionInfos
Supported Operations:
Export Image
Identify
Measure
Compute Histograms
Compute Statistics Histograms
Get Samples
Compute Class Statistics