<?xml version="1.0" encoding="UTF-8" standalone="no"?>
<metadata xml:lang="en">
<Esri>
<CreaDate>20240216</CreaDate>
<CreaTime>14025900</CreaTime>
<ArcGISFormat>1.0</ArcGISFormat>
<SyncOnce>FALSE</SyncOnce>
<DataProperties>
<itemProps>
<itemName Sync="TRUE">DEM_3M_I</itemName>
<itemLocation>
<linkage Sync="TRUE">file://\\DNREYILDI1\C$\Users\eyildir\DEM_2024_v5\DEM Geodatabase 3M\DEM_3M_I.gdb</linkage>
<protocol Sync="TRUE">Local Area Network</protocol>
</itemLocation>
<imsContentType Sync="TRUE">002</imsContentType>
<nativeExtBox>
<westBL Sync="TRUE">201873.000000</westBL>
<eastBL Sync="TRUE">737049.000000</eastBL>
<southBL Sync="TRUE">4470399.000000</southBL>
<northBL Sync="TRUE">4822875.000000</northBL>
<exTypeCode Sync="TRUE">1</exTypeCode>
</nativeExtBox>
</itemProps>
<coordRef>
<type Sync="TRUE">Projected</type>
<geogcsn Sync="TRUE">GCS_North_American_1983</geogcsn>
<csUnits Sync="TRUE">Linear Unit: Meter (1.000000)</csUnits>
<projcsn Sync="TRUE">NAD_1983_UTM_Zone_15N</projcsn>
<peXml Sync="TRUE">&lt;ProjectedCoordinateSystem xsi:type='typens:ProjectedCoordinateSystem' xmlns:xsi='http://www.w3.org/2001/XMLSchema-instance' xmlns:xs='http://www.w3.org/2001/XMLSchema' xmlns:typens='http://www.esri.com/schemas/ArcGIS/10.7'&gt;&lt;WKT&gt;PROJCS[&amp;quot;NAD_1983_UTM_Zone_15N&amp;quot;,GEOGCS[&amp;quot;GCS_North_American_1983&amp;quot;,DATUM[&amp;quot;D_North_American_1983&amp;quot;,SPHEROID[&amp;quot;GRS_1980&amp;quot;,6378137.0,298.257222101]],PRIMEM[&amp;quot;Greenwich&amp;quot;,0.0],UNIT[&amp;quot;Degree&amp;quot;,0.0174532925199433]],PROJECTION[&amp;quot;Transverse_Mercator&amp;quot;],PARAMETER[&amp;quot;False_Easting&amp;quot;,500000.0],PARAMETER[&amp;quot;False_Northing&amp;quot;,0.0],PARAMETER[&amp;quot;Central_Meridian&amp;quot;,-93.0],PARAMETER[&amp;quot;Scale_Factor&amp;quot;,0.9996],PARAMETER[&amp;quot;Latitude_Of_Origin&amp;quot;,0.0],UNIT[&amp;quot;Meter&amp;quot;,1.0],AUTHORITY[&amp;quot;EPSG&amp;quot;,26915]]&lt;/WKT&gt;&lt;XOrigin&gt;-5120900&lt;/XOrigin&gt;&lt;YOrigin&gt;-9998100&lt;/YOrigin&gt;&lt;XYScale&gt;450445547.3910538&lt;/XYScale&gt;&lt;ZOrigin&gt;-100000&lt;/ZOrigin&gt;&lt;ZScale&gt;10000&lt;/ZScale&gt;&lt;MOrigin&gt;-100000&lt;/MOrigin&gt;&lt;MScale&gt;10000&lt;/MScale&gt;&lt;XYTolerance&gt;0.001&lt;/XYTolerance&gt;&lt;ZTolerance&gt;0.001&lt;/ZTolerance&gt;&lt;MTolerance&gt;0.001&lt;/MTolerance&gt;&lt;HighPrecision&gt;true&lt;/HighPrecision&gt;&lt;WKID&gt;26915&lt;/WKID&gt;&lt;LatestWKID&gt;26915&lt;/LatestWKID&gt;&lt;/ProjectedCoordinateSystem&gt;</peXml>
</coordRef>
<RasterProperties>
<General>
<PixelDepth Sync="TRUE">16</PixelDepth>
<HasColormap Sync="TRUE">FALSE</HasColormap>
<CompressionType Sync="TRUE">LZW</CompressionType>
<NumBands Sync="TRUE">1</NumBands>
<Format Sync="TRUE">TIFF</Format>
<HasPyramids Sync="TRUE">TRUE</HasPyramids>
<SourceType Sync="TRUE">continuous</SourceType>
<PixelType Sync="TRUE">unsigned integer</PixelType>
<NoDataValue Sync="TRUE">65535</NoDataValue>
</General>
</RasterProperties>
<lineage>
<Process Date="20240216" Time="140300" ToolSource="c:\users\eyildir\appdata\local\programs\arcgis\pro\Resources\ArcToolbox\toolboxes\Data Management Tools.tbx\MosaicToNewRaster">MosaicToNewRaster D:\DEM2020\Adair_1M_DEM.tif;D:\DEM2020\Adams_1M_DEM.tif;D:\DEM2020\Allamakee_1M_DEM.tif;D:\DEM2020\Appanoose_1M_DEM.tif;D:\DEM2020\Audubon_1M_DEM.tif;D:\DEM2020\Benton_1M_DEM.tif;D:\DEM2020\BlackHawk_1M_DEM.tif;D:\DEM2020\Boone_1M_DEM.tif;D:\DEM2020\Bremer_1M_DEM.tif;D:\DEM2020\Buchanan_1M_DEM.tif;D:\DEM2020\Buena_Vista_1M_DEM.tif;D:\DEM2020\Butler_1M_DEM.tif;D:\DEM2020\Calhoun_1M_DEM.tif;D:\DEM2020\Carroll_1M_DEM.tif;D:\DEM2020\Cass_1M__DEM.tif;D:\DEM2020\Cedar_1M_DEM.tif;D:\DEM2020\Cerro_Gordo_1M_DEM.tif;D:\DEM2020\Cherokee_1M_DEM.tif;D:\DEM2020\Chickasaw_1M_DEM.tif;D:\DEM2020\Clarke_1M_DEM.tif;D:\DEM2020\Clay_1M_DEM.tif;D:\DEM2020\Clayton_1M_DEM.tif;D:\DEM2020\Clinton_1M_DEM.tif;D:\DEM2020\Crawford_1M_DEM.tif;D:\DEM2020\Dallas_1M_DEM.tif;D:\DEM2020\Davis_1M_DEM.tif;D:\DEM2020\Decatur_1M_DEM.tif;D:\DEM2020\Delaware_1M_DEM.tif;D:\DEM2020\DesMoines_1M_DEM.tif;D:\DEM2020\Dickinson_1M_DEM.tif;D:\DEM2020\Dubuque_1M_DEM.tif;D:\DEM2020\Emmet_1M_DEM.tif;D:\DEM2020\Fayette_1M_DEM.tif;D:\DEM2020\Floyd_1M_DEM.tif;D:\DEM2020\Franklin_1M_DEM.tif;D:\DEM2020\Fremont_1M_DEM.tif;D:\DEM2020\Greene_1M_DEM.tif;D:\DEM2020\Grundy_1M_DEM.tif;D:\DEM2020\Guthrie_1M_DEM.tif;D:\DEM2020\Hamilton_1M_DEM.tif;D:\DEM2020\Hancock_1M_DEM.tif;D:\DEM2020\Hardin_1M_DEM.tif;D:\DEM2020\Harrison_1M_DEM.tif;D:\DEM2020\Henry_1M_DEM.tif;D:\DEM2020\Howard_1M_DEM.tif;D:\DEM2020\Humboldt_1M_DEM.tif;D:\DEM2020\Ida_1M_DEM.tif;D:\DEM2020\Iowa_1M_DEM.tif;D:\DEM2020\Jackson_1M_DEM.tif;D:\DEM2020\Jasper_1M_DEM.tif;D:\DEM2020\Jefferson_1M_DEM.tif;D:\DEM2020\Johnson_1M_DEM.tif;D:\DEM2020\Jones_1M_DEM.tif;D:\DEM2020\Keokuk_1M_DEM.tif;D:\DEM2020\Kossuth_1M_DEM.tif;D:\DEM2020\Lee_1M_DEM.tif;D:\DEM2020\Linn_1M_DEM.tif;D:\DEM2020\Louisa_1M_DEM.tif;D:\DEM2020\Lucas_1M_DEM.tif;D:\DEM2020\Lyon_1M_DEM.tif;D:\DEM2020\Madison_1M_DEM.tif;D:\DEM2020\Mahaska_1M_DEM.tif;D:\DEM2020\Marion_1M_DEM.tif;D:\DEM2020\Marshall_1M_DEM.tif;D:\DEM2020\Mills_1M_DEM.tif;D:\DEM2020\Mitchell_1M_DEM.tif;D:\DEM2020\Monona_1M_DEM.tif;D:\DEM2020\Monroe_1M_DEM.tif;D:\DEM2020\Montgomery_1M_DEM.tif;D:\DEM2020\Muscatine_1M_DEM.tif;D:\DEM2020\OBrien_1M_DEM.tif;D:\DEM2020\Osceola_1M_DEM.tif;D:\DEM2020\Page_1M_DEM.tif;D:\DEM2020\Palo_Alto_1M_DEM.tif;D:\DEM2020\Plymouth_1M_DEM.tif;D:\DEM2020\Pocahontas_1M_DEM.tif;D:\DEM2020\Polk_1M_DEM.tif;D:\DEM2020\Pottawattamie_1M_DEM.tif;D:\DEM2020\Poweshiek_1M_DEM.tif;D:\DEM2020\Ringgold_1M_DEM.tif;D:\DEM2020\Sac_1M_DEM.tif;D:\DEM2020\Scott_1M_DEM.tif;D:\DEM2020\Shelby_1M_DEM.tif;D:\DEM2020\Sioux_1M_DEM.tif;D:\DEM2020\Story_1M_DEM.tif;D:\DEM2020\Tama_1M_DEM.tif;D:\DEM2020\Taylor_1M_DEM.tif;D:\DEM2020\Union_1M_DEM.tif;D:\DEM2020\Van_Buren_1M_DEM.tif;D:\DEM2020\Wapello_1M_DEM.tif;D:\DEM2020\Warren_1M_DEM.tif;D:\DEM2020\Washington_1M_DEM.tif;D:\DEM2020\Wayne_1M_DEM.tif;D:\DEM2020\Webster_1M_DEM.tif;D:\DEM2020\Winnebago_1M_DEM.tif;D:\DEM2020\Winneshiek_1M_DEM.tif;D:\DEM2020\Woodbury_1M_DEM.tif;D:\DEM2020\Worth_1M_DEM.tif;D:\DEM2020\Wright_1M_DEM.tif C:\Users\eyildir\DEM_2024_v5 DEM_1M_I.tif PROJCS['NAD_1983_UTM_Zone_15N',GEOGCS['GCS_North_American_1983',DATUM['D_North_American_1983',SPHEROID['GRS_1980',6378137.0,298.257222101]],PRIMEM['Greenwich',0.0],UNIT['Degree',0.0174532925199433]],PROJECTION['Transverse_Mercator'],PARAMETER['False_Easting',500000.0],PARAMETER['False_Northing',0.0],PARAMETER['Central_Meridian',-93.0],PARAMETER['Scale_Factor',0.9996],PARAMETER['Latitude_Of_Origin',0.0],UNIT['Meter',1.0]] "16 bit unsigned" # 1 Last First</Process>
<Process Date="20240223" Time="131210" ToolSource="c:\program files (x86)\arcgis\desktop10.7\ArcToolbox\Toolboxes\Data Management Tools.tbx\Resample">Resample DEM_1M_I.tif C:\Users\eyildir\DEM_2024_v5\DEM_3M_I.tif "3 3" NEAREST</Process>
</lineage>
</DataProperties>
<SyncDate>20240226</SyncDate>
<SyncTime>17462800</SyncTime>
<ModDate>20240226</ModDate>
<ModTime>17462800</ModTime>
</Esri>
<dataIdInfo>
<envirDesc Sync="TRUE"> Version 6.2 (Build 9200) ; Esri ArcGIS 10.7.1.11595</envirDesc>
<dataLang>
<languageCode Sync="TRUE" value="eng"/>
<countryCode Sync="TRUE" value="USA"/>
</dataLang>
<idCitation>
<resTitle Sync="TRUE">DEM_3M_I</resTitle>
<presForm>
<PresFormCd Sync="TRUE" value="011"/>
</presForm>
</idCitation>
<spatRpType>
<SpatRepTypCd Sync="TRUE" value="002"/>
</spatRpType>
<dataExt>
<geoEle>
<GeoBndBox esriExtentType="search">
<exTypeCode Sync="TRUE">1</exTypeCode>
<westBL Sync="TRUE">-96.687490</westBL>
<eastBL Sync="TRUE">-90.066876</eastBL>
<northBL Sync="TRUE">43.558830</northBL>
<southBL Sync="TRUE">40.330911</southBL>
</GeoBndBox>
</geoEle>
</dataExt>
<idAbs/>
<searchKeys>
<keyword>Elevation</keyword>
</searchKeys>
<idPurp>Three meter DEM, units in centimeters.</idPurp>
<idCredit/>
<resConst>
<Consts>
<useLimit/>
</Consts>
</resConst>
</dataIdInfo>
<mdLang>
<languageCode Sync="TRUE" value="eng"/>
<countryCode Sync="TRUE" value="USA"/>
</mdLang>
<mdChar>
<CharSetCd Sync="TRUE" value="004"/>
</mdChar>
<distInfo>
<distFormat>
<formatName Sync="TRUE">File Geodatabase Raster Dataset</formatName>
</distFormat>
</distInfo>
<mdHrLv>
<ScopeCd Sync="TRUE" value="005"/>
</mdHrLv>
<mdHrLvName Sync="TRUE">dataset</mdHrLvName>
<refSysInfo>
<RefSystem>
<refSysID>
<identCode Sync="TRUE" code="26915"/>
<idCodeSpace Sync="TRUE">EPSG</idCodeSpace>
<idVersion Sync="TRUE">6.13(3.0.1)</idVersion>
</refSysID>
</RefSystem>
</refSysInfo>
<spatRepInfo>
<Georect>
<cellGeo>
<CellGeoCd Sync="TRUE" value="002"/>
</cellGeo>
<numDims Sync="TRUE">2</numDims>
<tranParaAv Sync="TRUE">1</tranParaAv>
<chkPtAv Sync="TRUE">0</chkPtAv>
<cornerPts>
<pos Sync="TRUE">201873.000000 4470399.000000</pos>
</cornerPts>
<cornerPts>
<pos Sync="TRUE">201873.000000 4822875.000000</pos>
</cornerPts>
<cornerPts>
<pos Sync="TRUE">737049.000000 4822875.000000</pos>
</cornerPts>
<cornerPts>
<pos Sync="TRUE">737049.000000 4470399.000000</pos>
</cornerPts>
<centerPt>
<pos Sync="TRUE">469461.000000 4646637.000000</pos>
</centerPt>
<axisDimension type="002">
<dimSize Sync="TRUE">178392</dimSize>
<dimResol>
<value Sync="TRUE" uom="m">3.000000</value>
</dimResol>
</axisDimension>
<axisDimension type="001">
<dimSize Sync="TRUE">117492</dimSize>
<dimResol>
<value Sync="TRUE" uom="m">3.000000</value>
</dimResol>
</axisDimension>
<ptInPixel>
<PixOrientCd Sync="TRUE" value="001"/>
</ptInPixel>
</Georect>
</spatRepInfo>
<contInfo>
<ImgDesc>
<contentTyp>
<ContentTypCd Sync="TRUE" value="001"/>
</contentTyp>
<covDim>
<Band>
<dimDescrp Sync="TRUE">Band_1</dimDescrp>
<maxVal Sync="TRUE">50909.000000</maxVal>
<minVal Sync="TRUE">10526.000000</minVal>
<bitsPerVal Sync="TRUE">16</bitsPerVal>
<valUnit>
<UOM type="length"/>
</valUnit>
</Band>
</covDim>
</ImgDesc>
</contInfo>
<mdDateSt Sync="TRUE">20240226</mdDateSt>
<spdoinfo>
<rastinfo>
<rasttype Sync="TRUE">Pixel</rasttype>
<rowcount Sync="TRUE">117492</rowcount>
<colcount Sync="TRUE">178392</colcount>
<rastxsz Sync="TRUE">3.000000</rastxsz>
<rastysz Sync="TRUE">3.000000</rastysz>
<rastbpp Sync="TRUE">16</rastbpp>
<vrtcount Sync="TRUE">1</vrtcount>
<rastorig Sync="TRUE">Upper Left</rastorig>
<rastcmap Sync="TRUE">FALSE</rastcmap>
<rastcomp Sync="TRUE">LZ77</rastcomp>
<rastband Sync="TRUE">1</rastband>
<rastdtyp Sync="TRUE">pixel codes</rastdtyp>
<rastifor Sync="TRUE">FGDBR</rastifor>
<rastplyr Sync="TRUE">TRUE</rastplyr>
</rastinfo>
</spdoinfo>
<spref>
<horizsys>
<planar>
<planci>
<plance Sync="TRUE">row and column</plance>
<coordrep>
<absres Sync="TRUE">3.000000</absres>
<ordres Sync="TRUE">3.000000</ordres>
</coordrep>
</planci>
</planar>
</horizsys>
</spref>
</metadata>
